BEGIN:VCALENDAR
VERSION:2.0
PRODID:-//hacksw/handcal//NONSGML v1.0//EN
CALSCALE:GREGORIAN
BEGIN:VTIMEZONE
TZID:W. Europe Standard Time
BEGIN:STANDARD
DTSTART:16010101T030000
TZOFFSETFROM:+0200
TZOFFSETTO:+0100
RRULE:FREQ=YEARLY;INTERVAL=1;BYDAY=-1SU;BYMONTH=10
END:STANDARD
BEGIN:DAYLIGHT
DTSTART:16010101T020000
TZOFFSETFROM:+0100
TZOFFSETTO:+0200
RRULE:FREQ=YEARLY;INTERVAL=1;BYDAY=-1SU;BYMONTH=3
END:DAYLIGHT
END:VTIMEZONE
BEGIN:VEVENT
DTEND;TZID=W. Europe Standard Time:20210602T150000
UID:69e8fd4f52110
DTSTAMP:20260422T165439Z
LOCATION:Online
DESCRIPTION:\n\nLänk: https://mitc.se/aktivitet/visuella-verktyg-for-sme-f
 oretag-i-tillverkande-industrin/
SUMMARY:Visuella verktyg för SME-företag i tillverkande industrin
DTSTART;TZID=W. Europe Standard Time:20210602T130000
END:VEVENT
END:VCALENDAR
