BEGIN:VCALENDAR
VERSION:2.0
PRODID:-//hacksw/handcal//NONSGML v1.0//EN
CALSCALE:GREGORIAN
BEGIN:VTIMEZONE
TZID:W. Europe Standard Time
BEGIN:STANDARD
DTSTART:16010101T030000
TZOFFSETFROM:+0200
TZOFFSETTO:+0100
RRULE:FREQ=YEARLY;INTERVAL=1;BYDAY=-1SU;BYMONTH=10
END:STANDARD
BEGIN:DAYLIGHT
DTSTART:16010101T020000
TZOFFSETFROM:+0100
TZOFFSETTO:+0200
RRULE:FREQ=YEARLY;INTERVAL=1;BYDAY=-1SU;BYMONTH=3
END:DAYLIGHT
END:VTIMEZONE
BEGIN:VEVENT
DTEND;TZID=W. Europe Standard Time:20220510T130000
UID:69e8fc10d6e08
DTSTAMP:20260422T164920Z
LOCATION:Suzuki Garphyttan
DESCRIPTION:\n\nLänk: https://mitc.se/aktivitet/hur-nar-vi-nya-marknader-s
 uzuki-garphyttan-transmission-utvecklingsresor/
SUMMARY:[INSTÄLLD] Hur når vi nya marknader? Suzuki Garphyttan - TransMis
 sion Utvecklingsresor
DTSTART;TZID=W. Europe Standard Time:20220510T093000
END:VEVENT
END:VCALENDAR
