BEGIN:VCALENDAR
VERSION:2.0
PRODID:-//hacksw/handcal//NONSGML v1.0//EN
CALSCALE:GREGORIAN
BEGIN:VTIMEZONE
TZID:W. Europe Standard Time
BEGIN:STANDARD
DTSTART:16010101T030000
TZOFFSETFROM:+0200
TZOFFSETTO:+0100
RRULE:FREQ=YEARLY;INTERVAL=1;BYDAY=-1SU;BYMONTH=10
END:STANDARD
BEGIN:DAYLIGHT
DTSTART:16010101T020000
TZOFFSETFROM:+0100
TZOFFSETTO:+0200
RRULE:FREQ=YEARLY;INTERVAL=1;BYDAY=-1SU;BYMONTH=3
END:DAYLIGHT
END:VTIMEZONE
BEGIN:VEVENT
DTEND;TZID=W. Europe Standard Time:20220322T130000
UID:69e8fba97ff21
DTSTAMP:20260422T164737Z
LOCATION:Mälarplast
DESCRIPTION:\n\nLänk: https://mitc.se/aktivitet/hur-tjanar-vi-pengar-pa-ha
 llbarhet-malarplast-transmission-utvecklingsresor/
SUMMARY:Hur tjänar vi pengar på hållbarhet? Mälarplast - TransMission U
 tvecklingsresor
DTSTART;TZID=W. Europe Standard Time:20220322T093000
END:VEVENT
END:VCALENDAR
