BEGIN:VCALENDAR
VERSION:2.0
PRODID:-//hacksw/handcal//NONSGML v1.0//EN
CALSCALE:GREGORIAN
BEGIN:VTIMEZONE
TZID:W. Europe Standard Time
BEGIN:STANDARD
DTSTART:16010101T030000
TZOFFSETFROM:+0200
TZOFFSETTO:+0100
RRULE:FREQ=YEARLY;INTERVAL=1;BYDAY=-1SU;BYMONTH=10
END:STANDARD
BEGIN:DAYLIGHT
DTSTART:16010101T020000
TZOFFSETFROM:+0100
TZOFFSETTO:+0200
RRULE:FREQ=YEARLY;INTERVAL=1;BYDAY=-1SU;BYMONTH=3
END:DAYLIGHT
END:VTIMEZONE
BEGIN:VEVENT
DTEND;TZID=W. Europe Standard Time:20240308T160000
UID:69e8be7071f2c
DTSTAMP:20260422T122624Z
LOCATION:MITC, John Engellaus gata 1, Munktellstaden, Eskilstuna
DESCRIPTION:\n\nLänk: https://mitc.se/aktivitet/natverkstraff-kvinna-i-ind
 ustrin-2/
SUMMARY:Nätverksträff - Kvinna i Industrin
DTSTART;TZID=W. Europe Standard Time:20240308T120000
END:VEVENT
END:VCALENDAR
