BEGIN:VCALENDAR
VERSION:2.0
PRODID:-//hacksw/handcal//NONSGML v1.0//EN
CALSCALE:GREGORIAN
BEGIN:VTIMEZONE
TZID:W. Europe Standard Time
BEGIN:STANDARD
DTSTART:16010101T030000
TZOFFSETFROM:+0200
TZOFFSETTO:+0100
RRULE:FREQ=YEARLY;INTERVAL=1;BYDAY=-1SU;BYMONTH=10
END:STANDARD
BEGIN:DAYLIGHT
DTSTART:16010101T020000
TZOFFSETFROM:+0100
TZOFFSETTO:+0200
RRULE:FREQ=YEARLY;INTERVAL=1;BYDAY=-1SU;BYMONTH=3
END:DAYLIGHT
END:VTIMEZONE
BEGIN:VEVENT
DTEND;TZID=W. Europe Standard Time:20241107T160000
UID:69e8852f59b27
DTSTAMP:20260422T082207Z
LOCATION:Södertälje Science Park
DESCRIPTION:\n\nLänk: https://mitc.se/aktivitet/7-11-natverkstraff-kvinna-
 i-industrin/
SUMMARY:7/11 Nätverksträff Kvinna i industrin - Möjligheter och utmaning
 ar med hållbar produktion
DTSTART;TZID=W. Europe Standard Time:20241107T130000
END:VEVENT
END:VCALENDAR
