BEGIN:VCALENDAR
VERSION:2.0
PRODID:-//hacksw/handcal//NONSGML v1.0//EN
CALSCALE:GREGORIAN
BEGIN:VTIMEZONE
TZID:W. Europe Standard Time
BEGIN:STANDARD
DTSTART:16010101T030000
TZOFFSETFROM:+0200
TZOFFSETTO:+0100
RRULE:FREQ=YEARLY;INTERVAL=1;BYDAY=-1SU;BYMONTH=10
END:STANDARD
BEGIN:DAYLIGHT
DTSTART:16010101T020000
TZOFFSETFROM:+0100
TZOFFSETTO:+0200
RRULE:FREQ=YEARLY;INTERVAL=1;BYDAY=-1SU;BYMONTH=3
END:DAYLIGHT
END:VTIMEZONE
BEGIN:VEVENT
DTEND;TZID=W. Europe Standard Time:20250925T170000
UID:69e5e0e227113
DTSTAMP:20260420T081634Z
LOCATION:Munktells, Portgatan 3, Eskilstuna
DESCRIPTION:\n\nLänk: https://mitc.se/aktivitet/kvinna25sep/
SUMMARY:Kvinna i industrin 25 sep 2025
DTSTART;TZID=W. Europe Standard Time:20250925T140000
END:VEVENT
END:VCALENDAR
