BEGIN:VCALENDAR
VERSION:2.0
PRODID:-//hacksw/handcal//NONSGML v1.0//EN
CALSCALE:GREGORIAN
BEGIN:VTIMEZONE
TZID:W. Europe Standard Time
BEGIN:STANDARD
DTSTART:16010101T030000
TZOFFSETFROM:+0200
TZOFFSETTO:+0100
RRULE:FREQ=YEARLY;INTERVAL=1;BYDAY=-1SU;BYMONTH=10
END:STANDARD
BEGIN:DAYLIGHT
DTSTART:16010101T020000
TZOFFSETFROM:+0100
TZOFFSETTO:+0200
RRULE:FREQ=YEARLY;INTERVAL=1;BYDAY=-1SU;BYMONTH=3
END:DAYLIGHT
END:VTIMEZONE
BEGIN:VEVENT
DTEND;TZID=W. Europe Standard Time:20251014T180000
UID:69e67a46b81a6
DTSTAMP:20260420T191102Z
LOCATION:MITC
DESCRIPTION:\n\nLänk: https://mitc.se/aktivitet/14-10-fa-exjobbet-pa-en-ra
 kmacka-foretagsanmalan/
SUMMARY:14/10 Få exjobbet på en räkmacka - företagsanmälan
DTSTART;TZID=W. Europe Standard Time:20251014T150000
END:VEVENT
END:VCALENDAR
